BEGIN:VCALENDAR
VERSION:2.0
PRODID:EVENTFROG//EVENT//ICAL
BEGIN:VEVENT
UID:20260424T154408Z-7451360904946393900@eventfrog.ch
DTSTAMP:20260424T154408Z
DTSTART:20260508T183000Z
DTEND:20260508T233000Z
SUMMARY:Beats&Bites Café Session 08.05.26
DESCRIPTION:Am 8. Mai spielen Peacoux, Nika Westner und Lena Brysch im Hardtherzlich mit Special Drinks & Snacks von Anna. \n\nhttps://eventfrog.ch/de/p/partys/house-techno/beats-bites-cafe-session-08-05-26-7451360904946393900.html
LOCATION:hardtherzlich
GEO:49.595610;11.007122
URL:https://eventfrog.ch/de/p/partys/house-techno/beats-bites-cafe-session-08-05-26-7451360904946393900.html
END:VEVENT
END:VCALENDAR