BEGIN:VCALENDAR
VERSION:2.0
PRODID:EVENTFROG//EVENT//ICAL
BEGIN:VEVENT
UID:20260420T061541Z-7451371348754985140@eventfrog.ch
DTSTAMP:20260420T061541Z
DTSTART:20260710T150000Z
DTEND:20260711T000000Z
SUMMARY:Okapi Openair 2026 - Freitag
DESCRIPTION:„E grossi Bühni für chlini Bands“\nDas Okapi Openair geht in die vierte Runde!\n\nhttps://eventfrog.ch/de/p/festivals/weitere-festivals/okapi-openair-2026-freitag-7451371348754985140.html
LOCATION:Lindental Gemeinde Vechigen
GEO:46.975014;7.553851
URL:https://eventfrog.ch/de/p/festivals/weitere-festivals/okapi-openair-2026-freitag-7451371348754985140.html
END:VEVENT
END:VCALENDAR