BEGIN:VCALENDAR
VERSION:2.0
PRODID:EVENTFROG//EVENT//ICAL
BEGIN:VEVENT
UID:20260419T183242Z-7451384328452340171@eventfrog.ch
DTSTAMP:20260419T183242Z
DTSTART:20260522T140000Z
SUMMARY:Zwischen Gassen und Geschichten
DESCRIPTION:Spaziergang in die Vergangenheit des Jüdischen Viertels.\n\nhttps://eventfrog.ch/de/p/wissenschaft-und-technik/zwischen-gassen-und-geschichten-7451384328452340171.html
LOCATION:Jüdisches Museum
GEO:47.364721;9.688902
URL:https://eventfrog.ch/de/p/wissenschaft-und-technik/zwischen-gassen-und-geschichten-7451384328452340171.html
END:VEVENT
END:VCALENDAR