BEGIN:VCALENDAR
VERSION:2.0
PRODID:EVENTFROG//EVENT//ICAL
BEGIN:VEVENT
UID:20260425T154253Z-7451385978797731283@eventfrog.ch
DTSTAMP:20260425T154253Z
DTSTART:20260815T080000Z
DTEND:20260815T180000Z
SUMMARY:Kunstmuseum Spezial  Staatsfeiertag
DESCRIPTION:Staatsfeiertag\n\nhttps://eventfrog.ch/de/p/kunst-ausstellungen/kunstmuseum-spezial-staatsfeiertag-7451385978797731283.html
LOCATION:Kunstmuseum Liechtenstein mit Hilti Art Foundation
GEO:47.139517;9.522098
URL:https://eventfrog.ch/de/p/kunst-ausstellungen/kunstmuseum-spezial-staatsfeiertag-7451385978797731283.html
END:VEVENT
END:VCALENDAR