BEGIN:VCALENDAR
VERSION:2.0
PRODID:EVENTFROG//EVENT//ICAL
BEGIN:VEVENT
UID:20260425T162020Z-7451389003369043521@eventfrog.ch
DTSTAMP:20260425T162020Z
DTSTART:20260515T210000Z
SUMMARY:Steibi Fm: Maja
DESCRIPTION:Steibi Fm: Maja\n\nhttps://eventfrog.ch/de/p/partys/steibi-fm-maja-7451389003369043521.html
LOCATION:Albani
GEO:47.498480;8.729190
URL:https://eventfrog.ch/de/p/partys/steibi-fm-maja-7451389003369043521.html
END:VEVENT
END:VCALENDAR