BEGIN:VCALENDAR
VERSION:2.0
PRODID:EVENTFROG//EVENT//ICAL
BEGIN:VEVENT
UID:20260424T220110Z-7451389885858975381@eventfrog.ch
DTSTAMP:20260424T220110Z
DTSTART:20260618T180000Z
SUMMARY:Cenk Korkmaz
DESCRIPTION:Cenk Korkmaz\n\nhttps://eventfrog.ch/de/p/theater-buehne/cenk-korkmaz-7451389885858975381.html
LOCATION:Casinotheater
GEO:47.499716;8.726641
URL:https://eventfrog.ch/de/p/theater-buehne/cenk-korkmaz-7451389885858975381.html
END:VEVENT
END:VCALENDAR