BEGIN:VCALENDAR
VERSION:2.0
PRODID:EVENTFROG//EVENT//ICAL
BEGIN:VEVENT
UID:20260424T233718Z-7451389890640481961@eventfrog.ch
DTSTAMP:20260424T233718Z
DTSTART:20260619T180000Z
SUMMARY:Charles Nguela
DESCRIPTION:Charles Nguela\n\nhttps://eventfrog.ch/de/p/theater-buehne/charles-nguela-7451389890640481961.html
LOCATION:Casinotheater
GEO:47.499716;8.726641
URL:https://eventfrog.ch/de/p/theater-buehne/charles-nguela-7451389890640481961.html
END:VEVENT
END:VCALENDAR