BEGIN:VCALENDAR
VERSION:2.0
PRODID:EVENTFROG//EVENT//ICAL
BEGIN:VEVENT
UID:20260425T180621Z-7451390755883505871@eventfrog.ch
DTSTAMP:20260425T180621Z
DTSTART:20260507T183000Z
SUMMARY:Peter Lehel feat. Young Lions
DESCRIPTION:Vorabend des 19. Jazzgipfels.\n\nhttps://eventfrog.ch/de/p/konzerte/peter-lehel-feat-young-lions-7451390755883505871.html
LOCATION:K9 Kulturzentrum
GEO:47.659907;9.171496
URL:https://eventfrog.ch/de/p/konzerte/peter-lehel-feat-young-lions-7451390755883505871.html
END:VEVENT
END:VCALENDAR