BEGIN:VCALENDAR
VERSION:2.0
PRODID:EVENTFROG//EVENT//ICAL
BEGIN:VEVENT
UID:20260420T024355Z-7451391823136749106@eventfrog.ch
DTSTAMP:20260420T024355Z
DTSTART:20261110T230000Z
DTEND:20270110T225900Z
SUMMARY:UnSichtbar Mike Allenspach
DESCRIPTION:Mike Allenspach\n\nhttps://eventfrog.ch/de/p/theater-buehne/unsichtbar-mike-allenspach-7451391823136749106.html
LOCATION:fabriggli, werdenberger kleintheater
GEO:47.162967;9.471131
URL:https://eventfrog.ch/de/p/theater-buehne/unsichtbar-mike-allenspach-7451391823136749106.html
END:VEVENT
END:VCALENDAR