BEGIN:VCALENDAR
VERSION:2.0
PRODID:EVENTFROG//EVENT//ICAL
BEGIN:VEVENT
UID:20260425T002038Z-7451392137273310721@eventfrog.ch
DTSTAMP:20260425T002038Z
DTSTART:20260516T191500Z
SUMMARY:Vie privée
DESCRIPTION:Doppelbödige Krimikomödie mit Jodie Forster, Daniel Auteuil.\n\nhttps://eventfrog.ch/de/p/freizeit-ausfluege/vie-privee-7451392137273310721.html
LOCATION:Kinok – Cinema in der Lokremise
GEO:47.421287;9.366104
URL:https://eventfrog.ch/de/p/freizeit-ausfluege/vie-privee-7451392137273310721.html
END:VEVENT
END:VCALENDAR