BEGIN:VCALENDAR
VERSION:2.0
PRODID:EVENTFROG//EVENT//ICAL
BEGIN:VEVENT
UID:20260420T062708Z-7451527076589376785@eventfrog.ch
DTSTAMP:20260420T062708Z
DTSTART:20260506T113000Z
DTEND:20260506T130000Z
SUMMARY:Kräuterspaziergang mit Chrissys Kräuter-Apotheke
DESCRIPTION:Auf einem Kräuter-Spaziergang werden unscheinbare Pflanzen am Wegesrand mit heilenden Kräften und kulinarischem Nutzen vorgestellt.\n\nhttps://eventfrog.ch/de/p/freizeit-ausfluege/ausflug/kraeuterspaziergang-mit-chrissys-kraeuter-apotheke-7451527076589376785.html
LOCATION:VOLG Laden Othmarsingen
GEO:47.400639;8.214295
URL:https://eventfrog.ch/de/p/freizeit-ausfluege/ausflug/kraeuterspaziergang-mit-chrissys-kraeuter-apotheke-7451527076589376785.html
END:VEVENT
END:VCALENDAR