BEGIN:VCALENDAR
VERSION:2.0
PRODID:EVENTFROG//EVENT//ICAL
BEGIN:VEVENT
UID:20260419T122458Z-7451550183349828015@eventfrog.ch
DTSTAMP:20260419T122458Z
DTSTART:20260422T213000Z
DTEND:20260423T020000Z
SUMMARY:TROPICAL PARTY
DESCRIPTION:On April 22, the CF and Club Latino invite you to a tropical evening at the Miami Club, a night filled with exotic rhythms.\n\nhttps://eventfrog.ch/fr/p/soirees-fetes/autres-fetes/tropical-party-7451550183349828015.html
LOCATION:Bohl 9
GEO:47.426600;9.376878
URL:https://eventfrog.ch/fr/p/soirees-fetes/autres-fetes/tropical-party-7451550183349828015.html
END:VEVENT
END:VCALENDAR