BEGIN:VCALENDAR
VERSION:2.0
PRODID:EVENTFROG//EVENT//ICAL
BEGIN:VEVENT
UID:20260424T063554Z-7451550246004344071@eventfrog.ch
DTSTAMP:20260424T063554Z
DTSTART:20260521T170000Z
DTEND:20260521T190000Z
SUMMARY:Schmuckwärk
DESCRIPTION:Schmuckwärk - Ein Ort, wo Kaffee, Gespräche und DIY Schmuck aus Perlen zusammenkommen. \n\nhttps://eventfrog.ch/de/p/freizeit-ausfluege/sonstige-veranstaltungen/schmuckwaerk-7451550246004344071.html
LOCATION:u. Gasse 17
GEO:46.848636;9.530146
URL:https://eventfrog.ch/de/p/freizeit-ausfluege/sonstige-veranstaltungen/schmuckwaerk-7451550246004344071.html
END:VEVENT
END:VCALENDAR