BEGIN:VCALENDAR
VERSION:2.0
PRODID:EVENTFROG//EVENT//ICAL
BEGIN:VEVENT
UID:20260420T031716Z-7451574601576888729@eventfrog.ch
DTSTAMP:20260420T031716Z
DTSTART:20260521T163000Z
DTEND:20260521T190000Z
SUMMARY:Wir gründen JCI Aargau
DESCRIPTION:Wir bauen das führende Netzwerk für junge Macher:innen im Aargau auf.\n\nhttps://eventfrog.ch/de/p/diverses/wir-gruenden-jci-aargau-7451574601576888729.html
LOCATION:Gloria Coworking Lenzburg
GEO:47.393793;8.177580
URL:https://eventfrog.ch/de/p/diverses/wir-gruenden-jci-aargau-7451574601576888729.html
END:VEVENT
END:VCALENDAR