BEGIN:VCALENDAR
VERSION:2.0
PRODID:EVENTFROG//EVENT//ICAL
BEGIN:VEVENT
UID:20260420T013505Z-7451605005730063174@eventfrog.ch
DTSTAMP:20260420T013505Z
DTSTART:20260501T170000Z
DTEND:20260501T193000Z
SUMMARY:Begegnungsabend
DESCRIPTION:Ab 1.5.26 lädt 'Hand und Herz' monatlich Frauen zu einem kreativen Austauschabend mit gemeinsamen Projekten ohne Druck ein.\n\nhttps://eventfrog.ch/de/p/kurse-seminare/freizeit-hobby/begegnungsabend-7451605005730063174.html
LOCATION:Crea Party
GEO:47.499998;7.720026
URL:https://eventfrog.ch/de/p/kurse-seminare/freizeit-hobby/begegnungsabend-7451605005730063174.html
END:VEVENT
END:VCALENDAR