BEGIN:VCALENDAR
VERSION:2.0
PRODID:EVENTFROG//EVENT//ICAL
BEGIN:VEVENT
UID:20260420T013427Z-7451612344096928140@eventfrog.ch
DTSTAMP:20260420T013427Z
DTSTART:20260425T200000Z
DTEND:20260426T040000Z
SUMMARY:Groovesphäre by KIND Raves
DESCRIPTION:Come by to expirience some authentic underground vibe Techno and let your soul groove away from planet earth.\n\nhttps://eventfrog.ch/de/p/partys/house-techno/groovesphaere-by-kind-raves-7451612344096928140.html
LOCATION:QZ Gutschick-Mattenbach
GEO:47.493174;8.750034
URL:https://eventfrog.ch/de/p/partys/house-techno/groovesphaere-by-kind-raves-7451612344096928140.html
END:VEVENT
END:VCALENDAR