BEGIN:VCALENDAR
VERSION:2.0
PRODID:EVENTFROG//EVENT//ICAL
BEGIN:VEVENT
UID:20260425T034234Z-7451615300074634075@eventfrog.ch
DTSTAMP:20260425T034234Z
DTSTART:20260612T180000Z
DTEND:20260612T200000Z
SUMMARY:Konzert NEXT STOP piCanti
DESCRIPTION:"NEXT STOP piCanti": eine spannende musikalische Reise. Steig ein und lass dich in ferne Länder, schwindelnde Höhen oder tiefe Abgründe entführen. Das Fernweh wird auch dich packen!\n\nhttps://eventfrog.ch/de/p/konzerte/chor/konzert-next-stop-picanti-7451615300074634075.html
LOCATION:Bossartschüür
GEO:47.481400;8.223690
URL:https://eventfrog.ch/de/p/konzerte/chor/konzert-next-stop-picanti-7451615300074634075.html
END:VEVENT
END:VCALENDAR