BEGIN:VCALENDAR
VERSION:2.0
PRODID:EVENTFROG//EVENT//ICAL
BEGIN:VEVENT
UID:20260425T004215Z-7451617063393606670@eventfrog.ch
DTSTAMP:20260425T004215Z
DTSTART:20260613T180000Z
DTEND:20260613T203000Z
SUMMARY:Konzert NEXT STOP piCanti
DESCRIPTION:"NEXT STOP piCanti": eine spannende musikalische Reise. Steig ein und lass dich in ferne Länder, schwindelnde Höhen oder tiefe Abgründe entführen. Das Fernweh wird auch dich packen!\n\nhttps://eventfrog.ch/de/p/konzerte/chor/konzert-next-stop-picanti-7451617063393606670.html
LOCATION:Malzlager, Brauerei Stadtwächter Aarau
GEO:47.396526;8.064044
URL:https://eventfrog.ch/de/p/konzerte/chor/konzert-next-stop-picanti-7451617063393606670.html
END:VEVENT
END:VCALENDAR