BEGIN:VCALENDAR
VERSION:2.0
PRODID:EVENTFROG//EVENT//ICAL
BEGIN:VEVENT
UID:20260419T191817Z-7451626630106105534@eventfrog.ch
DTSTAMP:20260419T191817Z
DTSTART:20260529T210000Z
DTEND:20260530T030000Z
SUMMARY:DARKO LAZIĆ live al Flamingo Club Lugano
DESCRIPTION:Darko Lazić singt am 29.05 in Lugano seine grössten Hits und sorgt für eine unvergessliche Nacht.\n\nhttps://eventfrog.ch/en/p/concerts/pop-rock/darko-lazi-live-al-flamingo-club-lugano-7451626630106105534.html
LOCATION:Flamingo Club
GEO:46.016850;8.956112
URL:https://eventfrog.ch/en/p/concerts/pop-rock/darko-lazi-live-al-flamingo-club-lugano-7451626630106105534.html
END:VEVENT
END:VCALENDAR