BEGIN:VCALENDAR
VERSION:2.0
PRODID:EVENTFROG//EVENT//ICAL
BEGIN:VEVENT
UID:20260420T012150Z-7451634045606214760@eventfrog.ch
DTSTAMP:20260420T012150Z
DTSTART:20270210T070000Z
DTEND:20270210T210000Z
SUMMARY:Das Geheimnis der Hainbuchenzimmer Outdoor-Escape tgl 8-22U
DESCRIPTION:Im Rokoko-Park Kohren-Sahlis lösen 2-6 Personen Rätsel an sechs Station Rätsel lösen, Codes knacken und den Rokoko-Park neu entdecken:\nEin Outdoor-en und entdecken geheime Spuren der Parkgeschichte\n\nhttps://eventfrog.ch/de/p/freizeit-ausfluege/gruppen-spiele/das-geheimnis-der-hainbuchenzimmer-outdoor-escape-tgl-8-22u-7451634045606214760.html
LOCATION:Rittergut Kohren-Sahlis mit Schloss Sahlis & Rokoko-Park
GEO:51.012381;12.613274
URL:https://eventfrog.ch/de/p/freizeit-ausfluege/gruppen-spiele/das-geheimnis-der-hainbuchenzimmer-outdoor-escape-tgl-8-22u-7451634045606214760.html
END:VEVENT
END:VCALENDAR