BEGIN:VCALENDAR
VERSION:2.0
PRODID:EVENTFROG//EVENT//ICAL
BEGIN:VEVENT
UID:20260419T221415Z-7451638358655111984@eventfrog.ch
DTSTAMP:20260419T221415Z
DTSTART:20260423T170000Z
DTEND:20260423T183000Z
SUMMARY:Candlelight-Konzert: Esta noche toca Salta – Musik aus Argen
DESCRIPTION:Am 23.4. spielen María Fernanda Cuenca, Javier Cuenca und Armando Tolaba argentinische Volksmusik aus Salta, Beginn 19 Uhr, Eintritt frei.\n\nhttps://eventfrog.ch/de/p/konzerte/weitere-musikrichtungen/candlelight-konzert-esta-noche-toca-salta-musik-aus-argen-7451638358655111984.html
LOCATION:Kirche am Campus Bockenheim 
GEO:50.118490;8.651320
URL:https://eventfrog.ch/de/p/konzerte/weitere-musikrichtungen/candlelight-konzert-esta-noche-toca-salta-musik-aus-argen-7451638358655111984.html
END:VEVENT
END:VCALENDAR