BEGIN:VCALENDAR
VERSION:2.0
PRODID:EVENTFROG//EVENT//ICAL
BEGIN:VEVENT
UID:20260424T063651Z-7451699262260297599@eventfrog.ch
DTSTAMP:20260424T063651Z
DTSTART:20260829T090000Z
DTEND:20260829T190000Z
SUMMARY:Bescht Pieterler
DESCRIPTION:Abwechslungsreicher Spiel- und Sportparcours für PieterlerInnen und Nicht-PieterlerInnen, für jung und alt. Mit Boccia-Turnier & Festwirtschaft. Sei auch du dabei, wir freuen uns!\n\nhttps://eventfrog.ch/de/p/sport-fitness/sonstige-veranstaltungen/bescht-pieterler-7451699262260297599.html
LOCATION:Fussballplatz Pieterlen
GEO:47.171202;7.326006
URL:https://eventfrog.ch/de/p/sport-fitness/sonstige-veranstaltungen/bescht-pieterler-7451699262260297599.html
END:VEVENT
END:VCALENDAR