BEGIN:VCALENDAR
VERSION:2.0
PRODID:EVENTFROG//EVENT//ICAL
BEGIN:VEVENT
UID:20260424T183659Z-7451704898163348740@eventfrog.ch
DTSTAMP:20260424T183659Z
DTSTART:20260425T210000Z
DTEND:20260426T040000Z
SUMMARY:YOTO x SHARI WHO & NEAF
DESCRIPTION:SHARI WHO und NEAF verwandeln ab 23 Uhr den Yoto-Club in Hamburg mit vielfältigen Afro- und Urban-Beats in einen vibrierenden Dancefloor.\n\nhttps://eventfrog.ch/de/p/partys/sonstige-partys/yoto-x-shari-who-neaf-7451704898163348740.html
LOCATION:Yoto
GEO:53.562347;9.961065
URL:https://eventfrog.ch/de/p/partys/sonstige-partys/yoto-x-shari-who-neaf-7451704898163348740.html
END:VEVENT
END:VCALENDAR