BEGIN:VCALENDAR
VERSION:2.0
PRODID:EVENTFROG//EVENT//ICAL
BEGIN:VEVENT
UID:20260424T063649Z-7451725168324433932@eventfrog.ch
DTSTAMP:20260424T063649Z
DTSTART:20260509T150000Z
DTEND:20260509T200000Z
SUMMARY:Baisakhi Baithak - Krosswindz (Non-Member)
DESCRIPTION:Bengali rock/folk-fusion band Krosswindz\n\nhttps://eventfrog.ch/en/p/musicals-shows/musical/baisakhi-baithak-krosswindz-non-member-7451725168324433932.html
LOCATION:Mehrzweckhalle Ebnet
GEO:47.447440;8.651956
URL:https://eventfrog.ch/en/p/musicals-shows/musical/baisakhi-baithak-krosswindz-non-member-7451725168324433932.html
END:VEVENT
END:VCALENDAR