BEGIN:VCALENDAR
VERSION:2.0
PRODID:EVENTFROG//EVENT//ICAL
BEGIN:VEVENT
UID:20260424T075626Z-7451748253219982200@eventfrog.ch
DTSTAMP:20260424T075626Z
DTSTART:20260506T180000Z
SUMMARY:37. Schaffhauser Jazzfestival
DESCRIPTION:Diverse Acts.\n\nhttps://eventfrog.ch/de/p/konzerte/37-schaffhauser-jazzfestival-7451748253219982200.html
LOCATION:Kammgarn
GEO:47.695890;8.638049
URL:https://eventfrog.ch/de/p/konzerte/37-schaffhauser-jazzfestival-7451748253219982200.html
END:VEVENT
END:VCALENDAR