BEGIN:VCALENDAR
VERSION:2.0
PRODID:EVENTFROG//EVENT//ICAL
BEGIN:VEVENT
UID:20260424T063651Z-7451748253916236684@eventfrog.ch
DTSTAMP:20260424T063651Z
DTSTART:20260515T183000Z
SUMMARY:Nr. 7: Rondeau – Undr
DESCRIPTION:Klangkreation inspiriert von Bach.\n\nhttps://eventfrog.ch/de/p/konzerte/nr-7-rondeau-undr-7451748253916236684.html
LOCATION:Kammgarn
GEO:47.695890;8.638049
URL:https://eventfrog.ch/de/p/konzerte/nr-7-rondeau-undr-7451748253916236684.html
END:VEVENT
END:VCALENDAR