BEGIN:VCALENDAR
VERSION:2.0
PRODID:EVENTFROG//EVENT//ICAL
BEGIN:VEVENT
UID:20260424T051620Z-7451748254255975311@eventfrog.ch
DTSTAMP:20260424T051620Z
DTSTART:20260523T180000Z
SUMMARY:The Abyssinians & Big Youth
DESCRIPTION:Die Reggae-Ikonen.\n\nhttps://eventfrog.ch/de/p/konzerte/the-abyssinians-big-youth-7451748254255975311.html
LOCATION:Kammgarn
GEO:47.695890;8.638049
URL:https://eventfrog.ch/de/p/konzerte/the-abyssinians-big-youth-7451748254255975311.html
END:VEVENT
END:VCALENDAR