BEGIN:VCALENDAR
VERSION:2.0
PRODID:EVENTFROG//EVENT//ICAL
BEGIN:VEVENT
UID:20260424T070912Z-7451751612945537673@eventfrog.ch
DTSTAMP:20260424T070912Z
DTSTART:20260502T090000Z
SUMMARY:Bigger Band Unplugged
DESCRIPTION:Rolling Stones Cov­er Band.\n\nhttps://eventfrog.ch/de/p/konzerte/bigger-band-unplugged-7451751612945537673.html
LOCATION:ink - Konzept- und Kul­tur­raum
GEO:47.330580;9.408209
URL:https://eventfrog.ch/de/p/konzerte/bigger-band-unplugged-7451751612945537673.html
END:VEVENT
END:VCALENDAR