BEGIN:VCALENDAR
VERSION:2.0
PRODID:EVENTFROG//EVENT//ICAL
BEGIN:VEVENT
UID:20260424T063710Z-7451751613113309834@eventfrog.ch
DTSTAMP:20260424T063710Z
DTSTART:20260513T173000Z
SUMMARY:Michael McGoldrick
DESCRIPTION:Irish Night.\n\nhttps://eventfrog.ch/de/p/konzerte/michael-mcgoldrick-7451751613113309834.html
LOCATION:ink - Konzept- und Kul­tur­raum
GEO:47.330580;9.408209
URL:https://eventfrog.ch/de/p/konzerte/michael-mcgoldrick-7451751613113309834.html
END:VEVENT
END:VCALENDAR