BEGIN:VCALENDAR
VERSION:2.0
PRODID:EVENTFROG//EVENT//ICAL
BEGIN:VEVENT
UID:20260424T063651Z-7451751716037347042@eventfrog.ch
DTSTAMP:20260424T063651Z
DTSTART:20260508T183000Z
SUMMARY:Neal Sugarman & Electric Monk
DESCRIPTION:Jazzfestival.\n\nhttps://eventfrog.ch/de/p/konzerte/neal-sugarman-electric-monk-7451751716037347042.html
LOCATION:TapTab
GEO:47.694535;8.636379
URL:https://eventfrog.ch/de/p/konzerte/neal-sugarman-electric-monk-7451751716037347042.html
END:VEVENT
END:VCALENDAR