BEGIN:VCALENDAR
VERSION:2.0
PRODID:EVENTFROG//EVENT//ICAL
BEGIN:VEVENT
UID:20260420T025643Z-7451754014780196927@eventfrog.ch
DTSTAMP:20260420T025643Z
DTSTART:20260502T183000Z
SUMMARY:Frank Richter
DESCRIPTION:Stand-up-Comedy: «#lovemyjob».\n\nhttps://eventfrog.ch/de/p/theater-buehne/frank-richter-7451754014780196927.html
LOCATION:Zak
GEO:47.230892;8.837006
URL:https://eventfrog.ch/de/p/theater-buehne/frank-richter-7451754014780196927.html
END:VEVENT
END:VCALENDAR