BEGIN:VCALENDAR
VERSION:2.0
PRODID:EVENTFROG//EVENT//ICAL
BEGIN:VEVENT
UID:20260425T005635Z-7451806171109831708@eventfrog.ch
DTSTAMP:20260425T005635Z
DTSTART:20260425T170000Z
DTEND:20260425T193000Z
SUMMARY:Mani Matter - zum 90. Geburtstag
DESCRIPTION:Ein Abend volle Musik, Poesie und Erinnerung für Liebhaber*innen von Sprachen und Liedern, mit Jan Řepka und Honza Bartošek zu Mani Matters 90. Geburtstag.\n\nhttps://eventfrog.ch/de/p/konzerte/folk/mani-matter-zum-90-geburtstag-7451806171109831708.html
LOCATION:Haus Gutenberg
GEO:47.063704;9.499153
URL:https://eventfrog.ch/de/p/konzerte/folk/mani-matter-zum-90-geburtstag-7451806171109831708.html
END:VEVENT
END:VCALENDAR