BEGIN:VCALENDAR
VERSION:2.0
PRODID:EVENTFROG//EVENT//ICAL
BEGIN:VEVENT
UID:20260424T235243Z-7451882631661147943@eventfrog.ch
DTSTAMP:20260424T235243Z
DTSTART:20260430T170000Z
DTEND:20260430T190000Z
SUMMARY:Walpurgisnacht - mystischer Abend im Gebenstorfer Wald
DESCRIPTION:Am 30. April spielt SchellmerŸ mit historischen Instrumenten an der Walpurgisnacht im Wald, Eintritte frei, Barbetrieb vorhanden.\n\nhttps://eventfrog.ch/de/p/konzerte/weitere-musikrichtungen/walpurgisnacht-mystischer-abend-im-gebenstorfer-wald-7451882631661147943.html
LOCATION:Waldhütte Gebenstorf
GEO:47.471396;8.249227
URL:https://eventfrog.ch/de/p/konzerte/weitere-musikrichtungen/walpurgisnacht-mystischer-abend-im-gebenstorfer-wald-7451882631661147943.html
END:VEVENT
END:VCALENDAR