BEGIN:VCALENDAR
VERSION:2.0
PRODID:EVENTFROG//EVENT//ICAL
BEGIN:VEVENT
UID:20260424T063556Z-7451907795874542312@eventfrog.ch
DTSTAMP:20260424T063556Z
DTSTART:20260606T163000Z
SUMMARY:Unterhaltung Jungwacht & Blauring Oberriet
DESCRIPTION:Unter dem Motto „Mit JWO und BRO quär dort Schwiz debor“ entführt euch die diesjährige Jungwacht & Blauring Unterhaltung am 06. Juni 2026 quer durch die Schweiz, mit anschliessendem Leitertheater.\n\nhttps://eventfrog.ch/de/p/theater-buehne/buehnenveranstaltung/unterhaltung-jungwacht-blauring-oberriet-7451907795874542312.html
LOCATION:Mehrzweckhalle Burgwies
GEO:47.316810;9.564715
URL:https://eventfrog.ch/de/p/theater-buehne/buehnenveranstaltung/unterhaltung-jungwacht-blauring-oberriet-7451907795874542312.html
END:VEVENT
END:VCALENDAR