BEGIN:VCALENDAR
VERSION:2.0
PRODID:EVENTFROG//EVENT//ICAL
BEGIN:VEVENT
UID:20260424T063712Z-7451912817504950195@eventfrog.ch
DTSTAMP:20260424T063712Z
DTSTART:20260504T173000Z
SUMMARY:Verzauberte Vorbestimmung
DESCRIPTION:In diesem Roman von Jonas Lüscher ist kein Konflikt vorbei und noch jede Geschichte möglich. \n\n\nhttps://eventfrog.ch/de/p/theater-buehne/lesung/verzauberte-vorbestimmung-7451912817504950195.html
LOCATION:Stadtbibliothek Kriens
GEO:47.033218;8.282168
URL:https://eventfrog.ch/de/p/theater-buehne/lesung/verzauberte-vorbestimmung-7451912817504950195.html
END:VEVENT
END:VCALENDAR