BEGIN:VCALENDAR
VERSION:2.0
PRODID:EVENTFROG//EVENT//ICAL
BEGIN:VEVENT
UID:20260424T082946Z-7451956142199021094@eventfrog.ch
DTSTAMP:20260424T082946Z
DTSTART:20260801T080000Z
DTEND:20260801T120000Z
SUMMARY:Bundesfeier mit reichhaltigem Brunch in der Markthalle
DESCRIPTION:Die Stadt Langenthal lädt zusammen mit der Grünen Halle herzlich zum reichhaltigen Bundesfeier-Brunch mit Unterhaltung und Festrede ein – und übernimmt einen Teil der Kosten für Sie.\n\nhttps://eventfrog.ch/de/p/volksfeste/sommerfest/bundesfeier-mit-reichhaltigem-brunch-in-der-markthalle-7451956142199021094.html
LOCATION:Markthalle Langenthal
GEO:47.210811;7.791292
URL:https://eventfrog.ch/de/p/volksfeste/sommerfest/bundesfeier-mit-reichhaltigem-brunch-in-der-markthalle-7451956142199021094.html
END:VEVENT
END:VCALENDAR