BEGIN:VCALENDAR
VERSION:2.0
PRODID:EVENTFROG//EVENT//ICAL
BEGIN:VEVENT
UID:20260424T063709Z-7451972341171502845@eventfrog.ch
DTSTAMP:20260424T063709Z
DTSTART:20261024T180000Z
SUMMARY:Sebalter
DESCRIPTION:Sebalter, Singer-Songwriter und Geiger, vertrat die Schweiz 2014 am ESC und erlangte europaweiten Erfolg mit seinem Song.\n\nhttps://eventfrog.ch/de/p/konzerte/singer-songwriter/sebalter-7451972341171502845.html
LOCATION:Scala
GEO:47.332939;8.812099
URL:https://eventfrog.ch/de/p/konzerte/singer-songwriter/sebalter-7451972341171502845.html
END:VEVENT
END:VCALENDAR