BEGIN:VCALENDAR
VERSION:2.0
PRODID:EVENTFROG//EVENT//ICAL
BEGIN:VEVENT
UID:20260424T063559Z-7451977185483608343@eventfrog.ch
DTSTAMP:20260424T063559Z
DTSTART:20260501T210000Z
DTEND:20260502T030000Z
SUMMARY:PURO LATINO EVERY FRIDAY @ FLAMINGO CLUB ZÜRICH
DESCRIPTION:Puro Latino Every Friday @ Flamingo Club Zürich\n\nhttps://eventfrog.ch/de/p/partys/latin-brasil/puro-latino-every-friday-flamingo-club-zuerich-7451977185483608343.html
LOCATION:Flamingo Club
GEO:47.382199;8.534525
URL:https://eventfrog.ch/de/p/partys/latin-brasil/puro-latino-every-friday-flamingo-club-zuerich-7451977185483608343.html
END:VEVENT
END:VCALENDAR