BEGIN:VCALENDAR
VERSION:2.0
PRODID:EVENTFROG//EVENT//ICAL
BEGIN:VEVENT
UID:20260424T063714Z-7451977790822305562@eventfrog.ch
DTSTAMP:20260424T063714Z
DTSTART:20260529T210000Z
DTEND:20260530T030000Z
SUMMARY:PURO LATINO EVERY FRIDAY @ FLAMINGO CLUB ZÜRICH
DESCRIPTION:Puro Latino Every Friday @ Flamingo Club Zürich\n\nhttps://eventfrog.ch/de/p/partys/latin-brasil/puro-latino-every-friday-flamingo-club-zuerich-7451977790822305562.html
LOCATION:Flamingo Club
GEO:47.382199;8.534525
URL:https://eventfrog.ch/de/p/partys/latin-brasil/puro-latino-every-friday-flamingo-club-zuerich-7451977790822305562.html
END:VEVENT
END:VCALENDAR