BEGIN:VCALENDAR
VERSION:2.0
PRODID:EVENTFROG//EVENT//ICAL
BEGIN:VEVENT
UID:20260425T011545Z-7451979694818227088@eventfrog.ch
DTSTAMP:20260425T011545Z
DTSTART:20260617T163000Z
SUMMARY:THIS JUNGO LIFE im stattkino
DESCRIPTION:Am 17. Juni im stattkino: THIS JUNGO LIFE über sudanesische Flüchtlinge in Marokko, mit Gespräch danach.\n\nhttps://eventfrog.ch/de/p/diverses/this-jungo-life-im-stattkino-7451979694818227088.html
LOCATION:stattkino Luzern
GEO:47.056928;8.311278
URL:https://eventfrog.ch/de/p/diverses/this-jungo-life-im-stattkino-7451979694818227088.html
END:VEVENT
END:VCALENDAR