BEGIN:VCALENDAR
VERSION:2.0
PRODID:EVENTFROG//EVENT//ICAL
BEGIN:VEVENT
UID:20260424T051550Z-7451981073448189624@eventfrog.ch
DTSTAMP:20260424T051550Z
DTSTART:20260502T090000Z
DTEND:20260502T100000Z
SUMMARY:Vernissage Pop-up Ausstellung «Zu Besuch bei der pinken Eule
DESCRIPTION:Inspiriert von Objekten aus der Ausstellung «Die Eule ist pink» setzten Schüler*innen der Schule für Gestaltung Basel verschiedene Projekte um. Die Arbeiten sind im Hedi Keller-Saal zu sehen.\n\nhttps://eventfrog.ch/de/p/kunst-ausstellungen/vernissage/vernissage-pop-up-ausstellung-zu-besuch-bei-der-pinken-eule-7451981073448189624.html
LOCATION:Museum der Kulturen Basel
GEO:47.557200;7.590650
URL:https://eventfrog.ch/de/p/kunst-ausstellungen/vernissage/vernissage-pop-up-ausstellung-zu-besuch-bei-der-pinken-eule-7451981073448189624.html
END:VEVENT
END:VCALENDAR