BEGIN:VCALENDAR
VERSION:2.0
PRODID:EVENTFROG//EVENT//ICAL
BEGIN:VEVENT
UID:20260424T081207Z-7451991970883336944@eventfrog.ch
DTSTAMP:20260424T081207Z
DTSTART:20260818T120000Z
DTEND:20260818T133000Z
SUMMARY:Hirschen-Plauderei «Kultur und Kunst»
DESCRIPTION:In lockerer Runde tauschen sich Teilnehmende unter einer Moderatorin zu wechselnden Themen aus. Anschliessend gibt es ein kleines Zvieri.\n\nhttps://eventfrog.ch/de/p/diverses/hirschen-plauderei-kultur-und-kunst-7451991970883336944.html
LOCATION:Haus Hirschen
GEO:47.206758;7.535388
URL:https://eventfrog.ch/de/p/diverses/hirschen-plauderei-kultur-und-kunst-7451991970883336944.html
END:VEVENT
END:VCALENDAR