BEGIN:VCALENDAR
VERSION:2.0
PRODID:EVENTFROG//EVENT//ICAL
BEGIN:VEVENT
UID:20260424T075633Z-7452000931942556423@eventfrog.ch
DTSTAMP:20260424T075633Z
DTSTART:20260515T180000Z
DTEND:20260515T200000Z
SUMMARY:Datenschutz & Risiken
DESCRIPTION:Lerne in dieser Schulung, wie du deine digitalen Daten und dein Vermögen vor Betrug und Identitätsdiebstahl schützt.\n\nhttps://eventfrog.ch/de/p/kurse-seminare/allgemeinbildung/datenschutz-risiken-7452000931942556423.html
LOCATION:zB. Zentrum Bildung
GEO:47.469345;8.303556
URL:https://eventfrog.ch/de/p/kurse-seminare/allgemeinbildung/datenschutz-risiken-7452000931942556423.html
END:VEVENT
END:VCALENDAR