BEGIN:VCALENDAR
VERSION:2.0
PRODID:EVENTFROG//EVENT//ICAL
BEGIN:VEVENT
UID:20260425T135334Z-7452051978350283923@eventfrog.ch
DTSTAMP:20260425T135334Z
DTSTART:20260628T160000Z
DTEND:20260628T180000Z
SUMMARY:Sommer-Chorkonzert  "Klänge aus 7 Jahrhunderten"
DESCRIPTION:Eine spannende Zeitreise durch die mehrstimmige Musikgeschichte von Josquin Desprez bis ABBA!\n\nhttps://eventfrog.ch/de/p/konzerte/a-cappella-vocal/sommer-chorkonzert-klaenge-aus-7-jahrhunderten-7452051978350283923.html
LOCATION:Bürgerhaus Hürth
GEO:50.879374;6.879502
URL:https://eventfrog.ch/de/p/konzerte/a-cappella-vocal/sommer-chorkonzert-klaenge-aus-7-jahrhunderten-7452051978350283923.html
END:VEVENT
END:VCALENDAR