BEGIN:VCALENDAR
VERSION:2.0
PRODID:EVENTFROG//EVENT//ICAL
BEGIN:VEVENT
UID:20260424T063605Z-7452063645012345764@eventfrog.ch
DTSTAMP:20260424T063605Z
DTSTART:20260520T163000Z
SUMMARY:La DolceVita Apero
DESCRIPTION:Il 20/5 dalle 18:30 al Madonna Ristobar Zurigo evento La DolceVita: spritz e musica per italofoni 25-40 anni.\n\nhttps://eventfrog.ch/en/p/parties/afterwork/la-dolcevita-apero-7452063645012345764.html
LOCATION:Madonna Ristobar
GEO:47.371273;8.534889
URL:https://eventfrog.ch/en/p/parties/afterwork/la-dolcevita-apero-7452063645012345764.html
END:VEVENT
END:VCALENDAR