BEGIN:VCALENDAR
VERSION:2.0
PRODID:EVENTFROG//EVENT//ICAL
BEGIN:VEVENT
UID:20260424T064916Z-7452110679153110072@eventfrog.ch
DTSTAMP:20260424T064916Z
DTSTART:20260525T140000Z
SUMMARY:Limit – Expedition zum Rand der Welt
DESCRIPTION:Eine Reise quer durch das Universum.\n\nhttps://eventfrog.ch/de/p/wissenschaft-und-technik/limit-expedition-zum-rand-der-welt-7452110679153110072.html
LOCATION:Planetarium | Bodensee
GEO:47.641511;9.159443
URL:https://eventfrog.ch/de/p/wissenschaft-und-technik/limit-expedition-zum-rand-der-welt-7452110679153110072.html
END:VEVENT
END:VCALENDAR