BEGIN:VCALENDAR
VERSION:2.0
PRODID:EVENTFROG//EVENT//ICAL
BEGIN:VEVENT
UID:20260424T081259Z-7452110680004554172@eventfrog.ch
DTSTAMP:20260424T081259Z
DTSTART:20260517T140000Z
SUMMARY:Das kleine 1x1 der Sterne
DESCRIPTION:Fulldome-Abenteuer für die ganze Familie.\n\nhttps://eventfrog.ch/de/p/wissenschaft-und-technik/das-kleine-1x1-der-sterne-7452110680004554172.html
LOCATION:Planetarium | Bodensee
GEO:47.641511;9.159443
URL:https://eventfrog.ch/de/p/wissenschaft-und-technik/das-kleine-1x1-der-sterne-7452110680004554172.html
END:VEVENT
END:VCALENDAR