BEGIN:VCALENDAR
VERSION:2.0
PRODID:EVENTFROG//EVENT//ICAL
BEGIN:VEVENT
UID:20260424T063640Z-7452110734714999272@eventfrog.ch
DTSTAMP:20260424T063640Z
DTSTART:20260503T080000Z
SUMMARY:Nomal!
DESCRIPTION:Gschichtä, Versli und meeh.\n\nhttps://eventfrog.ch/de/p/theater-buehne/nomal-7452110734714999272.html
LOCATION:Stuhlfabrik Herisau
GEO:47.387798;9.284961
URL:https://eventfrog.ch/de/p/theater-buehne/nomal-7452110734714999272.html
END:VEVENT
END:VCALENDAR