BEGIN:VCALENDAR
VERSION:2.0
PRODID:EVENTFROG//EVENT//ICAL
BEGIN:VEVENT
UID:20260424T063613Z-7452113847089898842@eventfrog.ch
DTSTAMP:20260424T063613Z
DTSTART:20260517T120000Z
DTEND:20260517T160000Z
SUMMARY:Spielesonntag
DESCRIPTION:Klassiker & moderne Gesellschaftsspiele.\n\nhttps://eventfrog.ch/de/p/wissenschaft-und-technik/spielesonntag-7452113847089898842.html
LOCATION:Dä 3.Stock, Kultur hoch 3
GEO:47.382728;9.275600
URL:https://eventfrog.ch/de/p/wissenschaft-und-technik/spielesonntag-7452113847089898842.html
END:VEVENT
END:VCALENDAR