BEGIN:VCALENDAR
VERSION:2.0
PRODID:EVENTFROG//EVENT//ICAL
BEGIN:VEVENT
UID:20260424T073656Z-7452115919252241395@eventfrog.ch
DTSTAMP:20260424T073656Z
DTSTART:20260504T170000Z
SUMMARY:Stefan Burger spricht über seine Bücher und Ephemera
DESCRIPTION:Gesprächsabend.\n\nhttps://eventfrog.ch/de/p/kunst-ausstellungen/stefan-burger-spricht-ueber-seine-buecher-und-ephemera-7452115919252241395.html
LOCATION:Stiftung Sitterwerk
GEO:47.410450;9.322800
URL:https://eventfrog.ch/de/p/kunst-ausstellungen/stefan-burger-spricht-ueber-seine-buecher-und-ephemera-7452115919252241395.html
END:VEVENT
END:VCALENDAR